BEGIN:VCALENDAR
VERSION:2.0
PRODID:-//Miestna knižnica Vrakuňa - ECPv5.7.0//NONSGML v1.0//EN
CALSCALE:GREGORIAN
METHOD:PUBLISH
X-WR-CALNAME:Miestna knižnica Vrakuňa
X-ORIGINAL-URL:https://www.kniznicavrakuna.sk
X-WR-CALDESC:Events for Miestna knižnica Vrakuňa
BEGIN:VTIMEZONE
TZID:Europe/Bratislava
BEGIN:DAYLIGHT
TZOFFSETFROM:+0100
TZOFFSETTO:+0200
TZNAME:CEST
DTSTART:20220327T010000
END:DAYLIGHT
BEGIN:STANDARD
TZOFFSETFROM:+0200
TZOFFSETTO:+0100
TZNAME:CET
DTSTART:20221030T010000
END:STANDARD
END:VTIMEZONE
BEGIN:VEVENT
DTSTART;VALUE=DATE:20220121
DTEND;VALUE=DATE:20230101
DTSTAMP:20260423T124205
CREATED:20220121T105754Z
LAST-MODIFIED:20220121T105754Z
UID:2285-1642723200-1672531199@www.kniznicavrakuna.sk
SUMMARY:Knižnica v režime základ
DESCRIPTION:
URL:https://www.kniznicavrakuna.sk/udalost/kniznica-v-rezime-zaklad/
LOCATION:Knižnica Vrakuňa\, Toplianska 5\, Bratislava\, Slovenská republika\, 82107
ATTACH;FMTTYPE=image/png:https://www.kniznicavrakuna.sk/wp-content/uploads/2022/01/vstup-zaklad.png
ORGANIZER;CN="Kni%C5%BEnica%20Vraku%C5%88a":MAILTO:kniznica@vrakuna.sk
END:VEVENT
END:VCALENDAR