BEGIN:VCALENDAR
VERSION:2.0
PRODID:-//Miestna knižnica Vrakuňa - ECPv5.7.0//NONSGML v1.0//EN
CALSCALE:GREGORIAN
METHOD:PUBLISH
X-WR-CALNAME:Miestna knižnica Vrakuňa
X-ORIGINAL-URL:https://www.kniznicavrakuna.sk
X-WR-CALDESC:Events for Miestna knižnica Vrakuňa
BEGIN:VTIMEZONE
TZID:Europe/Bratislava
BEGIN:DAYLIGHT
TZOFFSETFROM:+0100
TZOFFSETTO:+0200
TZNAME:CEST
DTSTART:20220327T010000
END:DAYLIGHT
BEGIN:STANDARD
TZOFFSETFROM:+0200
TZOFFSETTO:+0100
TZNAME:CET
DTSTART:20221030T010000
END:STANDARD
END:VTIMEZONE
BEGIN:VEVENT
DTSTART;VALUE=DATE:20220121
DTEND;VALUE=DATE:20230101
DTSTAMP:20260423T125750
CREATED:20220121T095139Z
LAST-MODIFIED:20220121T105644Z
UID:2282-1642723200-1672531199@www.kniznicavrakuna.sk
SUMMARY:Jednu knihu ročne
DESCRIPTION:Kúp jednu knihu ročne a podaruj ju knižnici Vrakuňa\nMiestna knižnica Vrakuňa sa zapojila do úspešnej kampane na podporu čítania.\nAutorkou pôvodného projektu je Marta Moravčíková – www.martam.sk a úspešne bol realizovaný vo viacerých knižniciach na celom Slovensku. \nCieľom kampane je osloviť obyvateľov Bratislavy a blízkeho okolia\, organizácie a spoločnosti so sídlom najmä v mestskej časti Vrakuňa\, priateľov a priaznivcov našej knižnice a všetkých milovníkov čítania. \nUrčite sa vám už stalo tento rok\, že ste si kúpili či dostali knihu\, ktorá sa vám nepáči\, prípadne ju už máte\, resp. nemáte miesto v domácej knižnici a neviete\, čo s ňou. Podarujte ju knižnici Vrakuňa! Alebo to urobte účelovo. Kúpte jednu knihu vydanú v aktuálnom roku a podarujte ju knižnici. \nV prípade akýchkoľvek otázok nás kontaktujte na tel. čísle: 02/45524047 alebo prostredníctvom našej webovej stránky – https://www.vrakuna.sk/miestna-kniznica/ \nĎakujeme Vám!
URL:https://www.kniznicavrakuna.sk/udalost/jednu-knihu-rocne/
LOCATION:Knižnica Vrakuňa\, Toplianska 5\, Bratislava\, Slovenská republika\, 82107
ATTACH;FMTTYPE=image/png:https://www.kniznicavrakuna.sk/wp-content/uploads/2022/01/Jednu-knihu-rocne-final-uprava.png
ORGANIZER;CN="Kni%C5%BEnica%20Vraku%C5%88a":MAILTO:kniznica@vrakuna.sk
END:VEVENT
END:VCALENDAR