BEGIN:VCALENDAR
VERSION:2.0
PRODID:-//Miestna knižnica Vrakuňa - ECPv5.7.0//NONSGML v1.0//EN
CALSCALE:GREGORIAN
METHOD:PUBLISH
X-WR-CALNAME:Miestna knižnica Vrakuňa
X-ORIGINAL-URL:https://www.kniznicavrakuna.sk
X-WR-CALDESC:Events for Miestna knižnica Vrakuňa
BEGIN:VTIMEZONE
TZID:UTC
BEGIN:STANDARD
TZOFFSETFROM:+0000
TZOFFSETTO:+0000
TZNAME:UTC
DTSTART:20210101T000000
END:STANDARD
END:VTIMEZONE
BEGIN:VEVENT
DTSTART;TZID=UTC:20210901T003000
DTEND;TZID=UTC:20211130T160000
DTSTAMP:20260423T125645
CREATED:20180122T150504Z
LAST-MODIFIED:20220121T092146Z
UID:218-1630456200-1638288000@www.kniznicavrakuna.sk
SUMMARY:Literárna súťaž - Mikulášska kniha
DESCRIPTION:
URL:https://www.kniznicavrakuna.sk/udalost/english-conversation-groups/
LOCATION:Knižnica Vrakuňa\, Toplianska 5\, Bratislava\, Slovenská republika\, 82107
ATTACH;FMTTYPE=image/png:https://www.kniznicavrakuna.sk/wp-content/uploads/2018/01/plagat.png
ORGANIZER;CN="Kni%C5%BEnica%20Vraku%C5%88a":MAILTO:kniznica@vrakuna.sk
END:VEVENT
END:VCALENDAR